BEGIN:VCALENDAR
VERSION:2.0
PRODID:-//Worldconnectors, affiliate Earth Charter - ECPv6.15.17.1//NONSGML v1.0//EN
CALSCALE:GREGORIAN
METHOD:PUBLISH
X-WR-CALNAME:Worldconnectors, affiliate Earth Charter
X-ORIGINAL-URL:http://www.worldconnectors.nl
X-WR-CALDESC:Evenementen voor Worldconnectors, affiliate Earth Charter
REFRESH-INTERVAL;VALUE=DURATION:PT1H
X-Robots-Tag:noindex
X-PUBLISHED-TTL:PT1H
BEGIN:VTIMEZONE
TZID:Europe/Amsterdam
BEGIN:DAYLIGHT
TZOFFSETFROM:+0100
TZOFFSETTO:+0200
TZNAME:CEST
DTSTART:20240331T010000
END:DAYLIGHT
BEGIN:STANDARD
TZOFFSETFROM:+0200
TZOFFSETTO:+0100
TZNAME:CET
DTSTART:20241027T010000
END:STANDARD
BEGIN:DAYLIGHT
TZOFFSETFROM:+0100
TZOFFSETTO:+0200
TZNAME:CEST
DTSTART:20250330T010000
END:DAYLIGHT
BEGIN:STANDARD
TZOFFSETFROM:+0200
TZOFFSETTO:+0100
TZNAME:CET
DTSTART:20251026T010000
END:STANDARD
BEGIN:DAYLIGHT
TZOFFSETFROM:+0100
TZOFFSETTO:+0200
TZNAME:CEST
DTSTART:20260329T010000
END:DAYLIGHT
BEGIN:STANDARD
TZOFFSETFROM:+0200
TZOFFSETTO:+0100
TZNAME:CET
DTSTART:20261025T010000
END:STANDARD
END:VTIMEZONE
BEGIN:VEVENT
DTSTART;TZID=Europe/Amsterdam:20251015T100000
DTEND;TZID=Europe/Amsterdam:20251015T130000
DTSTAMP:20260421T191815
CREATED:20251010T114641Z
LAST-MODIFIED:20251010T114641Z
UID:10000031-1760522400-1760533200@www.worldconnectors.nl
SUMMARY:Gebruik je stem\, om de stem van morgen te borgen
DESCRIPTION:Toekomstige Generaties: hoe nemen we hun belangen echt mee bij en na de verkiezingen? \n  \n\n\nUITNODIGING \nToekomstige Generaties: hoe nemen we hun belangen echt mee bij en na de verkiezingen?\nDatum and tijd: Woensdag\, 15 oktober 15 · 10 am – 13 pm CEST \nLocatie: Nieuwspoort\, 67 Bezuidenhoutseweg 2594 AC Den Haag\nHet Lab Toekomstige Generaties nodigt je uit voor een bijeenkomt op 15 oktober in Nieuwspoort\, Den Haag. We praten je helemaal bij over alle initiatieven en ontwikkelingen in het recht\, die er nationaal en internationaal zijn\, om de stem van Toekomstige Generaties te borgen in de beslissingen die we nu nemen. \nDe stappen die we in Nederland zouden moeten nemen staan vermeld in het Manifest Toekomstige Generaties. Het Manifest Toekomstige Generaties uit 2024 roept op om in de politiek\, coalitieakkoorden en beleidsplannen nú ruimte te maken voor de belangen van ongeborenen. Structurele borging\, transparantie en een politieke verantwoordelijkheid die verder gaat dan de generaties die nu leven. \nKernpunten uit het Manifest voor Toekomstige Generaties: \n● Erken in de Grondwet het mensenrecht op een gezonde\, schone en duurzame leefomgeving – voor huidige en toekomstige generaties; \n● Borg structurele verantwoordelijkheid in beleid en politiek\, bijv. via een ‘Wet op het welzijn van toekomstige generaties’ dat overheid in alle lagen bindt; \n● Veranker een onafhankelijke toezichthouder: creëer de Ombudsman Toekomstige Generaties: de waakhond nu voor belangen van later. \nWe brengen wetenschap\, bestuur en politiek opnieuw bijeen om te laten zien dat langetermijndenken en -doen vanuit het recht moet en op allerlei manieren kan. \nLaat de stem van morgen vandaag meetellen en wees erbij! \n\n\n\n\nLees hier het hele manifest \nhttps://labtoekomstigegeneraties.nl/manifest/
URL:http://www.worldconnectors.nl/event/gebruik-je-stem-om-de-stem-van-morgen-te-borgen/
ATTACH;FMTTYPE=image/jpeg:http://www.worldconnectors.nl/wp-content/uploads/Uitnodiging-LTG-15-nov-2025.jpeg
END:VEVENT
END:VCALENDAR