BEGIN:VCALENDAR
VERSION:2.0
PRODID:-//Worldconnectors, affiliate Earth Charter - ECPv6.15.17.1//NONSGML v1.0//EN
CALSCALE:GREGORIAN
METHOD:PUBLISH
X-ORIGINAL-URL:http://www.worldconnectors.nl
X-WR-CALDESC:Evenementen voor Worldconnectors, affiliate Earth Charter
REFRESH-INTERVAL;VALUE=DURATION:PT1H
X-Robots-Tag:noindex
X-PUBLISHED-TTL:PT1H
BEGIN:VTIMEZONE
TZID:Europe/Amsterdam
BEGIN:DAYLIGHT
TZOFFSETFROM:+0100
TZOFFSETTO:+0200
TZNAME:CEST
DTSTART:20240331T010000
END:DAYLIGHT
BEGIN:STANDARD
TZOFFSETFROM:+0200
TZOFFSETTO:+0100
TZNAME:CET
DTSTART:20241027T010000
END:STANDARD
BEGIN:DAYLIGHT
TZOFFSETFROM:+0100
TZOFFSETTO:+0200
TZNAME:CEST
DTSTART:20250330T010000
END:DAYLIGHT
BEGIN:STANDARD
TZOFFSETFROM:+0200
TZOFFSETTO:+0100
TZNAME:CET
DTSTART:20251026T010000
END:STANDARD
BEGIN:DAYLIGHT
TZOFFSETFROM:+0100
TZOFFSETTO:+0200
TZNAME:CEST
DTSTART:20260329T010000
END:DAYLIGHT
BEGIN:STANDARD
TZOFFSETFROM:+0200
TZOFFSETTO:+0100
TZNAME:CET
DTSTART:20261025T010000
END:STANDARD
BEGIN:DAYLIGHT
TZOFFSETFROM:+0100
TZOFFSETTO:+0200
TZNAME:CEST
DTSTART:20270328T010000
END:DAYLIGHT
BEGIN:STANDARD
TZOFFSETFROM:+0200
TZOFFSETTO:+0100
TZNAME:CET
DTSTART:20271031T010000
END:STANDARD
END:VTIMEZONE
BEGIN:VEVENT
DTSTART;TZID=Europe/Amsterdam:20251015T100000
DTEND;TZID=Europe/Amsterdam:20251015T130000
DTSTAMP:20260422T011706
CREATED:20251010T114641Z
LAST-MODIFIED:20251010T114641Z
UID:10000031-1760522400-1760533200@www.worldconnectors.nl
SUMMARY:Gebruik je stem\, om de stem van morgen te borgen
DESCRIPTION:Toekomstige Generaties: hoe nemen we hun belangen echt mee bij en na de verkiezingen? \n  \n\n\nUITNODIGING \nToekomstige Generaties: hoe nemen we hun belangen echt mee bij en na de verkiezingen?\nDatum and tijd: Woensdag\, 15 oktober 15 · 10 am – 13 pm CEST \nLocatie: Nieuwspoort\, 67 Bezuidenhoutseweg 2594 AC Den Haag\nHet Lab Toekomstige Generaties nodigt je uit voor een bijeenkomt op 15 oktober in Nieuwspoort\, Den Haag. We praten je helemaal bij over alle initiatieven en ontwikkelingen in het recht\, die er nationaal en internationaal zijn\, om de stem van Toekomstige Generaties te borgen in de beslissingen die we nu nemen. \nDe stappen die we in Nederland zouden moeten nemen staan vermeld in het Manifest Toekomstige Generaties. Het Manifest Toekomstige Generaties uit 2024 roept op om in de politiek\, coalitieakkoorden en beleidsplannen nú ruimte te maken voor de belangen van ongeborenen. Structurele borging\, transparantie en een politieke verantwoordelijkheid die verder gaat dan de generaties die nu leven. \nKernpunten uit het Manifest voor Toekomstige Generaties: \n● Erken in de Grondwet het mensenrecht op een gezonde\, schone en duurzame leefomgeving – voor huidige en toekomstige generaties; \n● Borg structurele verantwoordelijkheid in beleid en politiek\, bijv. via een ‘Wet op het welzijn van toekomstige generaties’ dat overheid in alle lagen bindt; \n● Veranker een onafhankelijke toezichthouder: creëer de Ombudsman Toekomstige Generaties: de waakhond nu voor belangen van later. \nWe brengen wetenschap\, bestuur en politiek opnieuw bijeen om te laten zien dat langetermijndenken en -doen vanuit het recht moet en op allerlei manieren kan. \nLaat de stem van morgen vandaag meetellen en wees erbij! \n\n\n\n\nLees hier het hele manifest \nhttps://labtoekomstigegeneraties.nl/manifest/
URL:http://www.worldconnectors.nl/event/gebruik-je-stem-om-de-stem-van-morgen-te-borgen/
ATTACH;FMTTYPE=image/jpeg:http://www.worldconnectors.nl/wp-content/uploads/Uitnodiging-LTG-15-nov-2025.jpeg
END:VEVENT
BEGIN:VEVENT
DTSTART;TZID=Europe/Amsterdam:20251207T140000
DTEND;TZID=Europe/Amsterdam:20251207T180000
DTSTAMP:20260422T011706
CREATED:20251202T094020Z
LAST-MODIFIED:20251202T094303Z
UID:10000032-1765116000-1765130400@www.worldconnectors.nl
SUMMARY:Natuur- en Mensenrechtenfestival 2025
DESCRIPTION:Den Haag viert recht op leven voor mens én natuur tijdens Mensenrechtenfestival 2025\nOnder andere Oekraïense zanggroep KORALI\, lezing van Jan van de Venis en dabke dans op 7 december in de Grote Kerk\, Den Haag.\nKom ook en spread the word: \nMensenrechtenfestival lezing van Ombudspersoon Toekomstige Generaties Jan van de Venis ‘Recht op leven voor alles en iedereen’\, een workshop van Stichting Rechten van de Natuur\, de Oekraïense zanggroep KORALI en nog veel meer op 7 december in de Grote Kerk in Den Haag. \nKom naar de workshop en meld je aan via deze link. 
URL:http://www.worldconnectors.nl/event/natuur-en-mensenrechtenfestival-2025/
LOCATION:Grote Kerk Den Haag\, Grote Kerk 10\, Den Haag\, Netherlands
ATTACH;FMTTYPE=image/png:http://www.worldconnectors.nl/wp-content/uploads/Mensenrechtendag-Instagram-bericht-1536x975-1.png
END:VEVENT
BEGIN:VEVENT
DTSTART;TZID=Europe/Amsterdam:20260119T143000
DTEND;TZID=Europe/Amsterdam:20260119T180000
DTSTAMP:20260422T011706
CREATED:20260108T123955Z
LAST-MODIFIED:20260108T123955Z
UID:10000034-1768833000-1768845600@www.worldconnectors.nl
SUMMARY:Boeklancering Planetair Welzijn
DESCRIPTION:19 Januari 2026 \nBoeklancering + Keynote over Business Ethics door Edgar Karssing\, Dialoog & Nieuwjaarstoast \n14.30 Ontvangst met koffie/thee\n15.00-17.00 Boeklancering & Keynote\n17.00-18.00 New Year toast \n  \nGeorganiseerd door\nNyenrode Business Universiteit\, DeelGenootschap Earth Charter Nederlands &\nVereniging Worldconnectors \nRegistratie via Eventbrite \nLocatie\nNyenrode Business Universiteit\n25 Straatweg\, 3621 BG Breukelen
URL:http://www.worldconnectors.nl/event/boeklancering-planetair-welzijn/
LOCATION:Nyenrode Business Universiteit\, Straatweg 25\, Breukelen\, 3621 BG\, Netherlands
ATTACH;FMTTYPE=image/jpeg:http://www.worldconnectors.nl/wp-content/uploads/19-Jan-Planetair-Welzijn-EC-scaled.jpeg
END:VEVENT
BEGIN:VEVENT
DTSTART;TZID=Europe/Amsterdam:20260217T183000
DTEND;TZID=Europe/Amsterdam:20260217T203000
DTSTAMP:20260422T011706
CREATED:20260211T141744Z
LAST-MODIFIED:20260211T141744Z
UID:10000035-1771353000-1771360200@www.worldconnectors.nl
SUMMARY:17 Feb 2026: Dis op Dinsdag
DESCRIPTION:Thema \nAlleen als de overheid met burgers samenwerkt kunnen we transities waarmaken. Gemeenschap en burgerschap zijn daarin belangrijke rode draden\, die hand in hand kunnen (en moeten) gaan. \nBesloten evenement voor leden en genodigden.
URL:http://www.worldconnectors.nl/event/17-feb-2026-dis-op-dinsdag/
ATTACH;FMTTYPE=image/png:http://www.worldconnectors.nl/wp-content/uploads/Screenshot-2023-12-01-at-14.17.56.png
END:VEVENT
BEGIN:VEVENT
DTSTART;TZID=Europe/Amsterdam:20260508T130000
DTEND;TZID=Europe/Amsterdam:20260508T170000
DTSTAMP:20260422T011706
CREATED:20260413T080441Z
LAST-MODIFIED:20260413T080441Z
UID:10000036-1778245200-1778259600@www.worldconnectors.nl
SUMMARY:ALV 8 Mei
DESCRIPTION:De ALV zal plaatsvinden op 8 Mei Bij De Groene Afslag in Bussum (route: zie onder): van 13:00 – 17:00. \nDit is een lang verwachtte ALV en zal gaan over de onderwerpen als beschreven in het Jaarplan\,\nen ook het herintroductie van een gelaagde contributie. En natuurlijk over het officieel stemmen\nover het (ad interim) voorzitterschap van Lavinia. \nAls er tijd over is\, zal er ook een workshop plaatsvinden over het aankomende en lang verwachte\nboek van Ego naar Eco Leiderschap van Lavinia. \nMeld je aan voor de ALV door te antwoorden op dit bericht / een mail te sturen naar\nroundtable@worldconnectors.n
URL:http://www.worldconnectors.nl/event/alv-8-mei/
LOCATION:De Groene Afslag\, Cissy van Marxveldtstraat 1\, Bussum\, 1403 VM\, Netherlands
END:VEVENT
END:VCALENDAR