BEGIN:VCALENDAR
VERSION:2.0
PRODID:-//Worldconnectors, affiliate Earth Charter - ECPv6.15.17.1//NONSGML v1.0//EN
CALSCALE:GREGORIAN
METHOD:PUBLISH
X-WR-CALNAME:Worldconnectors, affiliate Earth Charter
X-ORIGINAL-URL:https://www.worldconnectors.nl/en
X-WR-CALDESC:Events for Worldconnectors, affiliate Earth Charter
REFRESH-INTERVAL;VALUE=DURATION:PT1H
X-Robots-Tag:noindex
X-PUBLISHED-TTL:PT1H
BEGIN:VTIMEZONE
TZID:Europe/Amsterdam
BEGIN:DAYLIGHT
TZOFFSETFROM:+0100
TZOFFSETTO:+0200
TZNAME:CEST
DTSTART:20220327T010000
END:DAYLIGHT
BEGIN:STANDARD
TZOFFSETFROM:+0200
TZOFFSETTO:+0100
TZNAME:CET
DTSTART:20221030T010000
END:STANDARD
BEGIN:DAYLIGHT
TZOFFSETFROM:+0100
TZOFFSETTO:+0200
TZNAME:CEST
DTSTART:20230326T010000
END:DAYLIGHT
BEGIN:STANDARD
TZOFFSETFROM:+0200
TZOFFSETTO:+0100
TZNAME:CET
DTSTART:20231029T010000
END:STANDARD
BEGIN:DAYLIGHT
TZOFFSETFROM:+0100
TZOFFSETTO:+0200
TZNAME:CEST
DTSTART:20240331T010000
END:DAYLIGHT
BEGIN:STANDARD
TZOFFSETFROM:+0200
TZOFFSETTO:+0100
TZNAME:CET
DTSTART:20241027T010000
END:STANDARD
END:VTIMEZONE
BEGIN:VEVENT
DTSTART;TZID=Europe/Amsterdam:20231124T140000
DTEND;TZID=Europe/Amsterdam:20231124T160000
DTSTAMP:20260420T125941
CREATED:20231017T095447Z
LAST-MODIFIED:20231103T123509Z
UID:10000018-1700834400-1700841600@www.worldconnectors.nl
SUMMARY:Algemene Ledenvergadering 24 november
DESCRIPTION:Vrijdagmiddag 24 november zal er een ledenvergadering plaatsvinden van 14:00-16:00 uur. \nNamens het bestuur en secretariaat zijn de leden van harte uitgenodigd voor deze bijeenkomst.\nDe bijeenkomst zal fysiek plaatsvinden\, met een eventuele mogelijkheid tot hybride. De locatie wordt op een later moment aangekondigd. \nTot vrijdag 24 november van 14:00-16:00 uur! \nSchrijf je hier in via de Eventbrite link: https://www.eventbrite.nl/e/tickets-ledenvergadering-vrijdagmiddag-24-november-731064171617?aff=oddtdtcreator
URL:https://www.worldconnectors.nl/en/event/algemene-ledenvergadering-24-november/
LOCATION:KIT\, Mauritskade 64\, Amsterdam\, 1092 AD
ATTACH;FMTTYPE=image/png:https://www.worldconnectors.nl/wp-content/uploads/Algemene-Ledenvergadering.png
END:VEVENT
BEGIN:VEVENT
DTSTART;TZID=Europe/Amsterdam:20230921T200000
DTEND;TZID=Europe/Amsterdam:20230921T220000
DTSTAMP:20260420T125941
CREATED:20230919T123955Z
LAST-MODIFIED:20230919T123955Z
UID:10000016-1695326400-1695333600@www.worldconnectors.nl
SUMMARY:ALV
DESCRIPTION:Er is een extra ledenvergadering gepland op donderdag 21 september van 20:00 tot 22:00. \nHierin zullen belangrijke zaken besproken worden. Namens het bestuur zijn alle leden van harte uitgenodigd. De link voor de vergadering hebben alle leden ontvangen in hun email.
URL:https://www.worldconnectors.nl/en/event/alv/
LOCATION:Zoom
ATTACH;FMTTYPE=image/png:https://www.worldconnectors.nl/wp-content/uploads/canva-ledenvergadering-1.png
END:VEVENT
END:VCALENDAR