BEGIN:VCALENDAR
VERSION:2.0
PRODID:-//Worldconnectors, affiliate Earth Charter - ECPv6.15.17.1//NONSGML v1.0//EN
CALSCALE:GREGORIAN
METHOD:PUBLISH
X-WR-CALNAME:Worldconnectors, affiliate Earth Charter
X-ORIGINAL-URL:https://www.worldconnectors.nl
X-WR-CALDESC:Evenementen voor Worldconnectors, affiliate Earth Charter
REFRESH-INTERVAL;VALUE=DURATION:PT1H
X-Robots-Tag:noindex
X-PUBLISHED-TTL:PT1H
BEGIN:VTIMEZONE
TZID:Europe/Amsterdam
BEGIN:DAYLIGHT
TZOFFSETFROM:+0100
TZOFFSETTO:+0200
TZNAME:CEST
DTSTART:20220327T010000
END:DAYLIGHT
BEGIN:STANDARD
TZOFFSETFROM:+0200
TZOFFSETTO:+0100
TZNAME:CET
DTSTART:20221030T010000
END:STANDARD
BEGIN:DAYLIGHT
TZOFFSETFROM:+0100
TZOFFSETTO:+0200
TZNAME:CEST
DTSTART:20230326T010000
END:DAYLIGHT
BEGIN:STANDARD
TZOFFSETFROM:+0200
TZOFFSETTO:+0100
TZNAME:CET
DTSTART:20231029T010000
END:STANDARD
BEGIN:DAYLIGHT
TZOFFSETFROM:+0100
TZOFFSETTO:+0200
TZNAME:CEST
DTSTART:20240331T010000
END:DAYLIGHT
BEGIN:STANDARD
TZOFFSETFROM:+0200
TZOFFSETTO:+0100
TZNAME:CET
DTSTART:20241027T010000
END:STANDARD
BEGIN:DAYLIGHT
TZOFFSETFROM:+0100
TZOFFSETTO:+0200
TZNAME:CEST
DTSTART:20250330T010000
END:DAYLIGHT
BEGIN:STANDARD
TZOFFSETFROM:+0200
TZOFFSETTO:+0100
TZNAME:CET
DTSTART:20251026T010000
END:STANDARD
END:VTIMEZONE
BEGIN:VEVENT
DTSTART;VALUE=DATE:20240629
DTEND;VALUE=DATE:20240630
DTSTAMP:20260420T093919
CREATED:20240509T081630Z
LAST-MODIFIED:20240522T111721Z
UID:10000025-1719619200-1719705599@www.worldconnectors.nl
SUMMARY:Viering van Earth Charter Dag 2024
DESCRIPTION:Worldconnectors zijn van harte welkom deel te nemen aan de viering van Earth Charter Dag op zaterdag 29 juni\, op Landgoed Zonheuvel in Doorn. \nVoor Worldconnectors leden die zich verder committeren als lid van de Vereniging\, zouden we het fijn vinden als je bij deze viering bent. De Vereniging biedt het ticket voor gecommitteerde leden kosteloos aan. Ook voor degenen die zich nog willen committeren. Zie bijgaande aankondiging en de mogelijkheid je hier te registreren. \nDit jaar wordt Earth Charter Dag georganiseerd door het Deelgenootschap Earth Charter Nederland i.o. \nHet Deelgenootschap is een nieuw initiatief en nog volop in ontwikkeling. Sinds oktober 2023 is er een ‘Bronteam’ actief om inhoud en vorm te geven aan de behoefte aan meer uitwisseling en samenwerking in Nederland tussen diegenen die al verbonden zijn aan de internationale Earth Charter beweging en al diegenen die zich daar ook bij zouden willen aansluiten. \nHet Deelgenootschap Earth Charter Nederland i.o. heeft tot doel een community op te bouwen om het Earth Charter in de Nederlandse samenleving te implementeren en de Earth Charter visie in bredere kring uit te dragen. Uiteraard horen daar de leden bij van Vereniging Worldconnectors\, Earth Charter Affilliate. \nDe jaarlijkse viering van Earth Charter Day (29 juni) biedt een goede gelegenheid om de plannen voor het Deelgenootschap te delen en bespreken met iedereen die geïnspireerd is bewustzijn om te zetten in actie voor een florerende Aarde. \nProgramma Earth Charter Dag 2024 \n13:30 Inloop\n14:00 Start & bron Earth Charter\n14:30 Earth Charter tot leven brengen\n15:15 Doen & ontmoeting\n17:00 Eind programma & borrel\n18:00 BBQ met eigen oogst
URL:https://www.worldconnectors.nl/event/viering-van-earth-charter-dag-2024/
LOCATION:Landgoed Zonheuvel\, Amersfoortseweg 98\, Doorn\, 3941 EP\, Nederland
ATTACH;FMTTYPE=image/png:https://www.worldconnectors.nl/wp-content/uploads/share_439556855811560289.png
END:VEVENT
BEGIN:VEVENT
DTSTART;TZID=Europe/Amsterdam:20230629T160000
DTEND;TZID=Europe/Amsterdam:20230629T220000
DTSTAMP:20260420T093919
CREATED:20230505T073041Z
LAST-MODIFIED:20230714T112707Z
UID:10000011-1688054400-1688076000@www.worldconnectors.nl
SUMMARY:[:nl]Roundtable Our Common Agenda & Earth Charter Day[:]
DESCRIPTION:Op donderdag 29 juni vindt de Roundtable Our Common Agenda plaats. Tijdens deze dag zullen we ook Earth Charter Day vieren\, de wereldwijde viering van de lancering van het Earth Charter. Alle leden en vrienden zijn hiervoor van harte uitgenodigd op de prachtige locatie Landgoed Zonheuvel in Doorn. \nOm 16:30 opent voorzitter Kathleen Ferrier het event met toast en welkomstwoord. Het programma omvat inspirerende sprekers en interactieve break-out sessies rondom het thema Our Common Agenda. Verder kun je genieten van een heerlijke Future Proof maaltijd en staat een “bosbad” door “het bos dat van zichzelf is” op de planning. \nBekijk het gehele programma via deze link! \nAls tegemoetkoming in de kosten voor de maaltijd en het bijzondere programma\, bedraagt een ticket slechts €35\,- voor een jongere/student\, €55\,- voor leden en €65\,- voor genodigde relaties. \nWe zien je aanmelding via deze link graag tegemoet! \nWil je graag iemands deelname sponsoren? Dit kan! Koop hiervoor een extra ticket. Mocht de tegemoetkoming een belemmering zijn voor deelname\, neem dan contact op met het secretariaat via roundtable@worldconnectors.nl. \n 
URL:https://www.worldconnectors.nl/event/earth-charter-day/
LOCATION:Landgoed Zonheuvel\, Amersfoortseweg 98\, Doorn\, 3941 EP\, Nederland
ATTACH;FMTTYPE=image/png:https://www.worldconnectors.nl/wp-content/uploads/EC-day-insta.png
END:VEVENT
END:VCALENDAR